BEGIN:VCALENDAR
PRODID:-//eluceo/ical//2.0/EN
VERSION:2.0
CALSCALE:GREGORIAN
BEGIN:VEVENT
UID:event-1193
DTSTAMP:20260420T021112Z
SUMMARY:Women in Business 
DESCRIPTION:Women in Business Event - May 6 Are you curious about what succ
 ess really looks like beyond what is visible on the surface? Our annual Wo
 men in Business Event offers an honest and insightful perspective on the r
 ealities of building a career. This year’s theme\, “The Hidden Hustle:
  The Part of Success That No One Sees\,” focuses on the less visible asp
 ects of professional success. During the event\, professional women from 
 different industries will share their personal experiences\, challenges\, 
 and lessons learned throughout their career journeys\, providing valuable 
 insight into the realities behind career growth. On May 6\, we are hosting
  this event\, bringing together professionals and highly motivated student
 s. The evening will begin with presentations by inspiring women\, followed
  by a panel discussion and networking drinks\, creating a setting that bal
 ances learning with meaningful connections. This is your chance to: * Unco
 ver the Reality: Learn about the less visible aspects of professional succ
 ess. * Learn from Experience: Hear personal stories\, challenges\, and les
 sons from professionals across industries. * Direct Access: Engage in disc
 ussion during the panel. * Build Connections: Network with professionals a
 nd fellow students during the drinks. Sign up now and take a meaningful st
 ep toward your future. The ticket price is €3 and includes access to th
 e event and drinks/bites at the networking drink afterwards. 
DTSTART:20260506T150000Z
DTEND:20260506T180000Z
LOCATION:Tilburg University
END:VEVENT
BEGIN:VTIMEZONE
TZID:UTC
BEGIN:STANDARD
DTSTART:20260506T150000
TZNAME:UTC
TZOFFSETTO:+0000
TZOFFSETFROM:+0000
END:STANDARD
END:VTIMEZONE
END:VCALENDAR
